BEGIN:VCALENDAR
VERSION:2.0
PRODID:-//Max-Klinger-Schule - ECPv6.15.20//NONSGML v1.0//EN
CALSCALE:GREGORIAN
METHOD:PUBLISH
X-WR-CALNAME:Max-Klinger-Schule
X-ORIGINAL-URL:https://max-klinger-schule.de
X-WR-CALDESC:Veranstaltungen für Max-Klinger-Schule
REFRESH-INTERVAL;VALUE=DURATION:PT1H
X-Robots-Tag:noindex
X-PUBLISHED-TTL:PT1H
BEGIN:VTIMEZONE
TZID:Europe/Berlin
BEGIN:DAYLIGHT
TZOFFSETFROM:+0100
TZOFFSETTO:+0200
TZNAME:CEST
DTSTART:20220327T010000
END:DAYLIGHT
BEGIN:STANDARD
TZOFFSETFROM:+0200
TZOFFSETTO:+0100
TZNAME:CET
DTSTART:20221030T010000
END:STANDARD
BEGIN:DAYLIGHT
TZOFFSETFROM:+0100
TZOFFSETTO:+0200
TZNAME:CEST
DTSTART:20230326T010000
END:DAYLIGHT
BEGIN:STANDARD
TZOFFSETFROM:+0200
TZOFFSETTO:+0100
TZNAME:CET
DTSTART:20231029T010000
END:STANDARD
BEGIN:DAYLIGHT
TZOFFSETFROM:+0100
TZOFFSETTO:+0200
TZNAME:CEST
DTSTART:20240331T010000
END:DAYLIGHT
BEGIN:STANDARD
TZOFFSETFROM:+0200
TZOFFSETTO:+0100
TZNAME:CET
DTSTART:20241027T010000
END:STANDARD
END:VTIMEZONE
BEGIN:VEVENT
DTSTART;TZID=Europe/Berlin:20230128T090000
DTEND;TZID=Europe/Berlin:20230128T120000
DTSTAMP:20260426T025131
CREATED:20220906T090211Z
LAST-MODIFIED:20230109T091313Z
UID:4617-1674896400-1674907200@max-klinger-schule.de
SUMMARY:Tag der offenen Tür
DESCRIPTION:Was kann man sehen? \ndie Schulgebäude\, fast alle Räume\, Lehrerinnen und Lehrer\, viele Schülerinnen  und Schüler\, Ergebnisse der schulischen und außerschulischen Arbeit \nWas kann man erfahren? \nWichtiges über das Leben und Lernen an dieser Schule \nWas kann man tun? \nsingen\, spielen\, sein Wissen testen\, alle ausfragen\, alles ansehen\, vieles  ausprobieren \nWas sollte man mitbringen? \ngute Laune\, Interesse\, Schreibzeug
URL:https://max-klinger-schule.de/event/tag-der-offenen-tuer-6/
END:VEVENT
END:VCALENDAR