BEGIN:VCALENDAR
VERSION:2.0
PRODID:-//Max-Klinger-Schule - ECPv6.15.20//NONSGML v1.0//EN
CALSCALE:GREGORIAN
METHOD:PUBLISH
X-WR-CALNAME:Max-Klinger-Schule
X-ORIGINAL-URL:https://max-klinger-schule.de
X-WR-CALDESC:Veranstaltungen für Max-Klinger-Schule
REFRESH-INTERVAL;VALUE=DURATION:PT1H
X-Robots-Tag:noindex
X-PUBLISHED-TTL:PT1H
BEGIN:VTIMEZONE
TZID:Europe/Berlin
BEGIN:DAYLIGHT
TZOFFSETFROM:+0100
TZOFFSETTO:+0200
TZNAME:CEST
DTSTART:20220327T010000
END:DAYLIGHT
BEGIN:STANDARD
TZOFFSETFROM:+0200
TZOFFSETTO:+0100
TZNAME:CET
DTSTART:20221030T010000
END:STANDARD
BEGIN:DAYLIGHT
TZOFFSETFROM:+0100
TZOFFSETTO:+0200
TZNAME:CEST
DTSTART:20230326T010000
END:DAYLIGHT
BEGIN:STANDARD
TZOFFSETFROM:+0200
TZOFFSETTO:+0100
TZNAME:CET
DTSTART:20231029T010000
END:STANDARD
BEGIN:DAYLIGHT
TZOFFSETFROM:+0100
TZOFFSETTO:+0200
TZNAME:CEST
DTSTART:20240331T010000
END:DAYLIGHT
BEGIN:STANDARD
TZOFFSETFROM:+0200
TZOFFSETTO:+0100
TZNAME:CET
DTSTART:20241027T010000
END:STANDARD
END:VTIMEZONE
BEGIN:VEVENT
DTSTART;VALUE=DATE:20230901
DTEND;VALUE=DATE:20230922
DTSTAMP:20260421T141429
CREATED:20230810T074919Z
LAST-MODIFIED:20230810T074919Z
UID:5036-1693526400-1695340799@max-klinger-schule.de
SUMMARY:Stadtradeln
DESCRIPTION:Liebe Schüler\, liebe Kollegen\,                                                                                                  es ist wieder soweit! Am 01.09.2023 beginnt das STADTRADELN und auch in diesem Jahr nimmt die Klinger-Schule wieder teil und setzt somit ein Zeichen für Umweltschutz und moderne urbane Fortbewegung.\nMacht also mit: meldet euch im Klinger-Team an und ladet gerne eure Familie und Freunde dazu ein\, bei unserem Team mitzuradeln.\nWie kann ich teilnehmen?\nDie Teilnahme ist kostenlos und völlig unkompliziert. Einfach auf www.stadtradeln.de/radlerbereich registrieren und das Team „Max-Klinger-Schule“ anklicken. Dann entweder deine Fahrten per Hand online eintragen oder deine Fahrten mit der STADTRADELN-App aufzeichnen und automatisch eintragen lassen. Wichtig: STADTRADELN setzt auf die Ehrlichkeit seiner Teilnehmerinnen und Teilnehmer. Also bitte nicht schummeln 😉\nTeammodus – Schulpokal\nDie Klassenlehrer/Klassensprecher werden gebeten ein Unterteam zu erstellen. Ladet dann gerne Freunde und Familie in dieses ein. Das Team mit den meisten Kilometern gewinnt den Stadtradel-Schulpokal. Im letzten Schuljahr gewann die 5/5 von Frau Naumann mit deutlichem Vorsprung.\nSchnellste(r) um den Kulki  und Cossi\nZu gewinnen gibt es dieses Jahr ein Klinger-Radtrikot für die schnellste Zeit um den Kulkwitzer See und die schnellste Zeit um den Cospudener See. Ihr braucht dafür eine zuverlässige GPS-Aufzeichnung\, die sowohl die Start- als auch die Ankunftszeit angibt und die Runde zeigt (Garmin\, Strava\, Komoot etc.). Schickt die Aufzeichnung im Zeitraum des Stadtradelns dann per Lernsax an Herrn Koch (Keine Schulveranstaltung. Teilnahme auf eigene Gefahr.) Die drei schnellsten Fahrer des letzten Jahres waren: Luca Wagner\, Tarik Sadeq und Justin Juhnke.\nFleißigste(r) Km-Sammler/in\nAuch für die meisten gesammelten Km gibt es einen Preis. Im letzten Jahr war es ein Kopf an Kopf-Rennen zwischen Tarik Sadeq und Justin Juhnke.\nFragen?\nWeitere Informationen unter: www.stadtradeln.de oder unter: www.oekoloewe.de/stadtradeln Bei Fragen einfach Herrn Koch ansprechen oder per Lernsax kontaktieren: t.koch@mks.lernsax.de
URL:https://max-klinger-schule.de/event/stadtradeln-6/
END:VEVENT
END:VCALENDAR