BEGIN:VCALENDAR
VERSION:2.0
PRODID:-//Max-Klinger-Schule - ECPv6.15.20//NONSGML v1.0//EN
CALSCALE:GREGORIAN
METHOD:PUBLISH
X-WR-CALNAME:Max-Klinger-Schule
X-ORIGINAL-URL:https://max-klinger-schule.de
X-WR-CALDESC:Veranstaltungen für Max-Klinger-Schule
REFRESH-INTERVAL;VALUE=DURATION:PT1H
X-Robots-Tag:noindex
X-PUBLISHED-TTL:PT1H
BEGIN:VTIMEZONE
TZID:Europe/Berlin
BEGIN:DAYLIGHT
TZOFFSETFROM:+0100
TZOFFSETTO:+0200
TZNAME:CEST
DTSTART:20220327T010000
END:DAYLIGHT
BEGIN:STANDARD
TZOFFSETFROM:+0200
TZOFFSETTO:+0100
TZNAME:CET
DTSTART:20221030T010000
END:STANDARD
BEGIN:DAYLIGHT
TZOFFSETFROM:+0100
TZOFFSETTO:+0200
TZNAME:CEST
DTSTART:20230326T010000
END:DAYLIGHT
BEGIN:STANDARD
TZOFFSETFROM:+0200
TZOFFSETTO:+0100
TZNAME:CET
DTSTART:20231029T010000
END:STANDARD
BEGIN:DAYLIGHT
TZOFFSETFROM:+0100
TZOFFSETTO:+0200
TZNAME:CEST
DTSTART:20240331T010000
END:DAYLIGHT
BEGIN:STANDARD
TZOFFSETFROM:+0200
TZOFFSETTO:+0100
TZNAME:CET
DTSTART:20241027T010000
END:STANDARD
END:VTIMEZONE
BEGIN:VEVENT
DTSTART;VALUE=DATE:20230901
DTEND;VALUE=DATE:20230922
DTSTAMP:20260421T122613
CREATED:20230810T074919Z
LAST-MODIFIED:20230810T074919Z
UID:5036-1693526400-1695340799@max-klinger-schule.de
SUMMARY:Stadtradeln
DESCRIPTION:Liebe Schüler\, liebe Kollegen\,                                                                                                  es ist wieder soweit! Am 01.09.2023 beginnt das STADTRADELN und auch in diesem Jahr nimmt die Klinger-Schule wieder teil und setzt somit ein Zeichen für Umweltschutz und moderne urbane Fortbewegung.\nMacht also mit: meldet euch im Klinger-Team an und ladet gerne eure Familie und Freunde dazu ein\, bei unserem Team mitzuradeln.\nWie kann ich teilnehmen?\nDie Teilnahme ist kostenlos und völlig unkompliziert. Einfach auf www.stadtradeln.de/radlerbereich registrieren und das Team „Max-Klinger-Schule“ anklicken. Dann entweder deine Fahrten per Hand online eintragen oder deine Fahrten mit der STADTRADELN-App aufzeichnen und automatisch eintragen lassen. Wichtig: STADTRADELN setzt auf die Ehrlichkeit seiner Teilnehmerinnen und Teilnehmer. Also bitte nicht schummeln 😉\nTeammodus – Schulpokal\nDie Klassenlehrer/Klassensprecher werden gebeten ein Unterteam zu erstellen. Ladet dann gerne Freunde und Familie in dieses ein. Das Team mit den meisten Kilometern gewinnt den Stadtradel-Schulpokal. Im letzten Schuljahr gewann die 5/5 von Frau Naumann mit deutlichem Vorsprung.\nSchnellste(r) um den Kulki  und Cossi\nZu gewinnen gibt es dieses Jahr ein Klinger-Radtrikot für die schnellste Zeit um den Kulkwitzer See und die schnellste Zeit um den Cospudener See. Ihr braucht dafür eine zuverlässige GPS-Aufzeichnung\, die sowohl die Start- als auch die Ankunftszeit angibt und die Runde zeigt (Garmin\, Strava\, Komoot etc.). Schickt die Aufzeichnung im Zeitraum des Stadtradelns dann per Lernsax an Herrn Koch (Keine Schulveranstaltung. Teilnahme auf eigene Gefahr.) Die drei schnellsten Fahrer des letzten Jahres waren: Luca Wagner\, Tarik Sadeq und Justin Juhnke.\nFleißigste(r) Km-Sammler/in\nAuch für die meisten gesammelten Km gibt es einen Preis. Im letzten Jahr war es ein Kopf an Kopf-Rennen zwischen Tarik Sadeq und Justin Juhnke.\nFragen?\nWeitere Informationen unter: www.stadtradeln.de oder unter: www.oekoloewe.de/stadtradeln Bei Fragen einfach Herrn Koch ansprechen oder per Lernsax kontaktieren: t.koch@mks.lernsax.de
URL:https://max-klinger-schule.de/event/stadtradeln-6/
END:VEVENT
BEGIN:VEVENT
DTSTART;TZID=Europe/Berlin:20230901T190000
DTEND;TZID=Europe/Berlin:20230901T220000
DTSTAMP:20260421T122613
CREATED:20230810T074644Z
LAST-MODIFIED:20230810T074644Z
UID:5032-1693594800-1693605600@max-klinger-schule.de
SUMMARY:Leipziger Radnacht
DESCRIPTION:Clara-Zetkin-Park 04107 Leipzig Ökolöwe – Umweltbund Leipzig e.V.. 
URL:https://max-klinger-schule.de/event/leipziger-radnacht/
LOCATION:Clara-Zetkin-Park 04107 Leipzig
END:VEVENT
BEGIN:VEVENT
DTSTART;TZID=Europe/Berlin:20230908T140000
DTEND;TZID=Europe/Berlin:20230908T160000
DTSTAMP:20260421T122613
CREATED:20230904T121927Z
LAST-MODIFIED:20230904T121927Z
UID:5075-1694181600-1694188800@max-klinger-schule.de
SUMMARY:JIA- feierliche Exmatrikulation bzw. Immatrikulation
DESCRIPTION:
URL:https://max-klinger-schule.de/event/jia-feierliche-exmatrikulation-bzw-immatrikulation/
END:VEVENT
BEGIN:VEVENT
DTSTART;TZID=Europe/Berlin:20230908T150000
DTEND;TZID=Europe/Berlin:20230908T160000
DTSTAMP:20260421T122613
CREATED:20230504T084014Z
LAST-MODIFIED:20230621T073833Z
UID:4926-1694185200-1694188800@max-klinger-schule.de
SUMMARY:Start Tanzstunden 2023
DESCRIPTION:Die Schüler werden von professionell ausgebildeten Fach-Tanzlehrern in verschiedenen Tänzen zu aktueller Musik unterrichtet. \nStarttermin für das Max-Klinger-Gymnasium ist am Freitag\, den 08.09.2023 um 15:00 Uhr für  11 x 60 Minuten inkl. 2x Anti-Blamierprogramm \nAnmeldungen  unter info@ts-joergens.de Gern kann man auch einfach zum ersten Termin erscheinen…
URL:https://max-klinger-schule.de/event/start-tanstunden-2023/
END:VEVENT
BEGIN:VEVENT
DTSTART;TZID=Europe/Berlin:20230917T100000
DTEND;TZID=Europe/Berlin:20230917T170000
DTSTAMP:20260421T122613
CREATED:20230904T121149Z
LAST-MODIFIED:20230915T132902Z
UID:5070-1694944800-1694970000@max-klinger-schule.de
SUMMARY:Klinger radelt 2023
DESCRIPTION:Liebe Radelnde\, \ndie letzte Woche des Stadtradelns ist angebrochen und wir befinden uns aktuell auf Platz 27 im Kommunenranking mit knapp 12.000km\, innerhalb unseres Schulteams hat die Klasse 6/5 bisher die meisten Kilometer gesammelt! Tretet also weiterhin fleißig in die Pedalen. \nAm Sonntag steht die Klingerausfahrt an\, leider musste ich aufgrund des Sparkassen Mountain Bike Cups um den Zwenkauer See eine Routenänderung vornehmen. Die Tour bleibt ungefähr gleich lang\, allerdings werden wir ein wenig mehr Straße fahren müssen (nicht stark befahren) und der „Boxenstopp“ am Kap Zwenkau entfällt. Alternativ würde ich also darum bitten auf eigene Versorgung zurückzugreifen\, es gibt genügend ‚Highlights‘ unterwegs\, die zu einem Päuschen einladen (bspw. die Flügelfotowand in Kitzen o. Monarchenhügel mit Blick auf Leipzig). Cospudener See ist weiterhin im Programm\, kann bei großer Müdigkeit aber problemlos ausgelassen werden. \nIch hoffe dennoch Einige von Euch anzutreffen! 🙂 \nBis dahin\, E. Hoffmann \n—————————————————- \nLiebe Schülerschaft\, liebes Kollegium\,\nDieses Jahr habe ich die Ehre die Klingerausfahrt in Vertretung für Hr. Koch zu übernehmen und lade alle Kolleginnen\, Schülerinnen und natürlich Eltern\, Freunde\, Verwandte ganz herzlich dazu ein! \nDie Tour wird am Sonntag\,17.09.2023 stattfinden\, Treffpunkt ist 10.00 Uhr am Parkplatz Kulkwitzer See\, Seestraße/Grünau. \nTourdaten: \n–              JEDE:R ist willkommen mit JEDEM Bike!\n–              viel Radweg oder wenig befahrene Straßen\, größtenteils asphaltiert  (rennradtauglich!)\n–              ca. 57km\n–              Einkehrmöglichkeiten am Cossi\n–              es besteht die Möglichkeit\, die Route einzukürzen / eher die Tour zu verlassen\nhttps://www.komoot.de/tour/1287230013?ref=wtd&share_token=ag12yS30DlXl13q05Ua760Vv7PAdPpjL2YlLRLMfpRCNhY9e90 \nIch würde mich sehr darüber freuen\, viele von Euch zur Klingerausfahrt begrüßen zu dürfen! Sammelt fleißig Kilometer\, damit wir im Leipzig-Ranking wieder ganz oben mitkämpfen können. Bei Fragen/Anregungen zur Klingerausfahrt bin ich unter bekannter E-Mail Adresse zu erreichen. \nFrohes Radeln\,\nE. Hoffmann
URL:https://max-klinger-schule.de/event/klinger-radelt-2023/
END:VEVENT
BEGIN:VEVENT
DTSTART;TZID=Europe/Berlin:20230921T180000
DTEND;TZID=Europe/Berlin:20230921T190000
DTSTAMP:20260421T122613
CREATED:20230921T083421Z
LAST-MODIFIED:20230921T083421Z
UID:5109-1695319200-1695322800@max-klinger-schule.de
SUMMARY:Elternabend Kurswahl
DESCRIPTION:Ort: Aula Neue Mitte
URL:https://max-klinger-schule.de/event/elternabend-kurswahl/
END:VEVENT
BEGIN:VEVENT
DTSTART;TZID=Europe/Berlin:20230927T180000
DTEND;TZID=Europe/Berlin:20230927T193000
DTSTAMP:20260421T122613
CREATED:20230921T083623Z
LAST-MODIFIED:20230921T083623Z
UID:5111-1695837600-1695843000@max-klinger-schule.de
SUMMARY:Gesamtelternabend aller Klassenelternsprecher
DESCRIPTION:Ort: Aula Neue Mitte
URL:https://max-klinger-schule.de/event/gesamtelternabend-aller-klassenelternsprecher/
END:VEVENT
END:VCALENDAR